BEGIN:VCALENDAR
VERSION:2.0
PRODID:-//NADI Kesedar Sg Asap - ECPv6.15.13.1//NONSGML v1.0//EN
CALSCALE:GREGORIAN
METHOD:PUBLISH
X-WR-CALNAME:NADI Kesedar Sg Asap
X-ORIGINAL-URL:https://kesedarsgasap.nadi.my
X-WR-CALDESC:Events for NADI Kesedar Sg Asap
REFRESH-INTERVAL;VALUE=DURATION:PT1H
X-Robots-Tag:noindex
X-PUBLISHED-TTL:PT1H
BEGIN:VTIMEZONE
TZID:Asia/Kuala_Lumpur
BEGIN:STANDARD
TZOFFSETFROM:+0800
TZOFFSETTO:+0800
TZNAME:+08
DTSTART:20250101T000000
END:STANDARD
END:VTIMEZONE
BEGIN:VEVENT
DTSTART;TZID=Asia/Kuala_Lumpur:20260411T100000
DTEND;TZID=Asia/Kuala_Lumpur:20260411T113000
DTSTAMP:20260420T102402
CREATED:20260410T071919Z
LAST-MODIFIED:20260410T071919Z
UID:8512-1775901600-1775907000@kesedarsgasap.nadi.my
SUMMARY:KIDSVENTURE LIVE WEBINAR 10
DESCRIPTION:
URL:https://kesedarsgasap.nadi.my/event/kidsventure-live-webinar-10/
LOCATION:NADI Kampung Kesedar Sungai Asap\, Kampung Kesedar Sungai Asap B\, Gua Musang\, Kelantan\, 18300\, Malaysia
END:VEVENT
BEGIN:VEVENT
DTSTART;TZID=Asia/Kuala_Lumpur:20260411T143000
DTEND;TZID=Asia/Kuala_Lumpur:20260411T163000
DTSTAMP:20260420T102402
CREATED:20260408T041433Z
LAST-MODIFIED:20260408T041435Z
UID:8510-1775917800-1775925000@kesedarsgasap.nadi.my
SUMMARY:Dilea - Webinar Berkala Bahasa Melayu Edisi 5
DESCRIPTION:
URL:https://kesedarsgasap.nadi.my/event/dilea-webinar-berkala-bahasa-melayu-edisi-5/
END:VEVENT
END:VCALENDAR