BEGIN:VCALENDAR
VERSION:2.0
PRODID:-//NADI Kesedar Sg Asap - ECPv6.15.13.1//NONSGML v1.0//EN
CALSCALE:GREGORIAN
METHOD:PUBLISH
X-ORIGINAL-URL:https://kesedarsgasap.nadi.my
X-WR-CALDESC:Events for NADI Kesedar Sg Asap
REFRESH-INTERVAL;VALUE=DURATION:PT1H
X-Robots-Tag:noindex
X-PUBLISHED-TTL:PT1H
BEGIN:VTIMEZONE
TZID:UTC
BEGIN:STANDARD
TZOFFSETFROM:+0000
TZOFFSETTO:+0000
TZNAME:UTC
DTSTART:20220101T000000
END:STANDARD
END:VTIMEZONE
BEGIN:VEVENT
DTSTART;TZID=UTC:20231001T150000
DTEND;TZID=UTC:20231001T170000
DTSTAMP:20260420T091241
CREATED:20231001T232623Z
LAST-MODIFIED:20231001T232623Z
UID:6014-1696172400-1696179600@kesedarsgasap.nadi.my
SUMMARY:Microsoft Word
DESCRIPTION:
URL:https://kesedarsgasap.nadi.my/event/microsoft-word-6/
CATEGORIES:DEFAULT
END:VEVENT
BEGIN:VEVENT
DTSTART;TZID=UTC:20231002T080000
DTEND;TZID=UTC:20231002T170000
DTSTAMP:20260420T091241
CREATED:20231001T232949Z
LAST-MODIFIED:20231001T232949Z
UID:6020-1696233600-1696266000@kesedarsgasap.nadi.my
SUMMARY:E-Pembelajaran
DESCRIPTION:
URL:https://kesedarsgasap.nadi.my/event/e-pembelajaran-26/
CATEGORIES:DEFAULT
END:VEVENT
BEGIN:VEVENT
DTSTART;TZID=UTC:20231002T150000
DTEND;TZID=UTC:20231002T170000
DTSTAMP:20260420T091241
CREATED:20231001T232650Z
LAST-MODIFIED:20231001T232650Z
UID:6015-1696258800-1696266000@kesedarsgasap.nadi.my
SUMMARY:E-Pembelajaran
DESCRIPTION:
URL:https://kesedarsgasap.nadi.my/event/e-pembelajaran-23/
CATEGORIES:DEFAULT
END:VEVENT
BEGIN:VEVENT
DTSTART;TZID=UTC:20231005T150000
DTEND;TZID=UTC:20231005T170000
DTSTAMP:20260420T091241
CREATED:20231001T232712Z
LAST-MODIFIED:20231001T232712Z
UID:6016-1696518000-1696525200@kesedarsgasap.nadi.my
SUMMARY:kelas Stem
DESCRIPTION:
URL:https://kesedarsgasap.nadi.my/event/kelas-stem-2/
CATEGORIES:DEFAULT
END:VEVENT
BEGIN:VEVENT
DTSTART;TZID=UTC:20231006T150000
DTEND;TZID=UTC:20231006T170000
DTSTAMP:20260420T091241
CREATED:20231001T232735Z
LAST-MODIFIED:20231001T232735Z
UID:6017-1696604400-1696611600@kesedarsgasap.nadi.my
SUMMARY:E-Pembelajaran
DESCRIPTION:
URL:https://kesedarsgasap.nadi.my/event/e-pembelajaran-24/
CATEGORIES:DEFAULT
END:VEVENT
BEGIN:VEVENT
DTSTART;TZID=UTC:20231007T100000
DTEND;TZID=UTC:20231007T130000
DTSTAMP:20260420T091241
CREATED:20231001T232801Z
LAST-MODIFIED:20231001T232801Z
UID:6018-1696672800-1696683600@kesedarsgasap.nadi.my
SUMMARY:Aplikasi paint
DESCRIPTION:
URL:https://kesedarsgasap.nadi.my/event/aplikasi-paint-5/
CATEGORIES:DEFAULT
END:VEVENT
BEGIN:VEVENT
DTSTART;TZID=UTC:20231009T100000
DTEND;TZID=UTC:20231009T130000
DTSTAMP:20260420T091241
CREATED:20231001T232824Z
LAST-MODIFIED:20231001T232824Z
UID:6019-1696845600-1696856400@kesedarsgasap.nadi.my
SUMMARY:E-pembelajaran
DESCRIPTION:
URL:https://kesedarsgasap.nadi.my/event/e-pembelajaran-25/
CATEGORIES:DEFAULT
END:VEVENT
BEGIN:VEVENT
DTSTART;TZID=UTC:20231010T100000
DTEND;TZID=UTC:20231010T130000
DTSTAMP:20260420T091241
CREATED:20231001T233049Z
LAST-MODIFIED:20231001T233049Z
UID:6021-1696932000-1696942800@kesedarsgasap.nadi.my
SUMMARY:e-pembelajaran
DESCRIPTION:
URL:https://kesedarsgasap.nadi.my/event/e-pembelajaran-27/
CATEGORIES:DEFAULT
END:VEVENT
BEGIN:VEVENT
DTSTART;TZID=UTC:20231011T100000
DTEND;TZID=UTC:20231011T130000
DTSTAMP:20260420T091241
CREATED:20231001T233118Z
LAST-MODIFIED:20231001T233118Z
UID:6022-1697018400-1697029200@kesedarsgasap.nadi.my
SUMMARY:Latihan Keusahawanan
DESCRIPTION:
URL:https://kesedarsgasap.nadi.my/event/latihan-keusahawanan-25/
CATEGORIES:DEFAULT
END:VEVENT
BEGIN:VEVENT
DTSTART;TZID=UTC:20231012T100000
DTEND;TZID=UTC:20231012T130000
DTSTAMP:20260420T091241
CREATED:20231001T233144Z
LAST-MODIFIED:20231001T233144Z
UID:6023-1697104800-1697115600@kesedarsgasap.nadi.my
SUMMARY:Latihan Keusahawanan
DESCRIPTION:
URL:https://kesedarsgasap.nadi.my/event/latihan-keusahawanan-26/
CATEGORIES:DEFAULT
END:VEVENT
BEGIN:VEVENT
DTSTART;TZID=UTC:20231013T150000
DTEND;TZID=UTC:20231013T170000
DTSTAMP:20260420T091241
CREATED:20231001T233212Z
LAST-MODIFIED:20231001T233212Z
UID:6024-1697209200-1697216400@kesedarsgasap.nadi.my
SUMMARY:Kelas Stem
DESCRIPTION:
URL:https://kesedarsgasap.nadi.my/event/kelas-stem-3/
CATEGORIES:DEFAULT
END:VEVENT
BEGIN:VEVENT
DTSTART;TZID=UTC:20231014T150000
DTEND;TZID=UTC:20231014T170000
DTSTAMP:20260420T091241
CREATED:20231001T233235Z
LAST-MODIFIED:20231001T233235Z
UID:6025-1697295600-1697302800@kesedarsgasap.nadi.my
SUMMARY:Perisian Komputer
DESCRIPTION:
URL:https://kesedarsgasap.nadi.my/event/perisian-komputer-2/
CATEGORIES:DEFAULT
END:VEVENT
BEGIN:VEVENT
DTSTART;TZID=UTC:20231019T100000
DTEND;TZID=UTC:20231019T130000
DTSTAMP:20260420T091241
CREATED:20231001T233355Z
LAST-MODIFIED:20231001T233355Z
UID:6026-1697709600-1697720400@kesedarsgasap.nadi.my
SUMMARY:Latihan Keusahawanan (Tiktok Basic)
DESCRIPTION:
URL:https://kesedarsgasap.nadi.my/event/latihan-keusahawanan-tiktok-basic/
CATEGORIES:DEFAULT
END:VEVENT
BEGIN:VEVENT
DTSTART;TZID=UTC:20231020T150000
DTEND;TZID=UTC:20231020T170000
DTSTAMP:20260420T091241
CREATED:20231001T233427Z
LAST-MODIFIED:20231001T233427Z
UID:6027-1697814000-1697821200@kesedarsgasap.nadi.my
SUMMARY:Kelas Excell
DESCRIPTION:
URL:https://kesedarsgasap.nadi.my/event/kelas-excell/
CATEGORIES:DEFAULT
END:VEVENT
BEGIN:VEVENT
DTSTART;TZID=UTC:20231021T150000
DTEND;TZID=UTC:20231021T170000
DTSTAMP:20260420T091241
CREATED:20231001T233452Z
LAST-MODIFIED:20231001T233452Z
UID:6028-1697900400-1697907600@kesedarsgasap.nadi.my
SUMMARY:Microsoft Powerpoint
DESCRIPTION:
URL:https://kesedarsgasap.nadi.my/event/microsoft-powerpoint-5/
CATEGORIES:DEFAULT
END:VEVENT
END:VCALENDAR